BEGIN:VCALENDAR
VERSION:2.0
PRODID:-//Kramer&#039;s Greenhouse - ECPv6.15.20//NONSGML v1.0//EN
CALSCALE:GREGORIAN
METHOD:PUBLISH
X-ORIGINAL-URL:https://kramersgreenhouse.com
X-WR-CALDESC:Events for Kramer&#039;s Greenhouse
REFRESH-INTERVAL;VALUE=DURATION:PT1H
X-Robots-Tag:noindex
X-PUBLISHED-TTL:PT1H
BEGIN:VTIMEZONE
TZID:America/New_York
BEGIN:DAYLIGHT
TZOFFSETFROM:-0500
TZOFFSETTO:-0400
TZNAME:EDT
DTSTART:20240310T070000
END:DAYLIGHT
BEGIN:STANDARD
TZOFFSETFROM:-0400
TZOFFSETTO:-0500
TZNAME:EST
DTSTART:20241103T060000
END:STANDARD
BEGIN:DAYLIGHT
TZOFFSETFROM:-0500
TZOFFSETTO:-0400
TZNAME:EDT
DTSTART:20250309T070000
END:DAYLIGHT
BEGIN:STANDARD
TZOFFSETFROM:-0400
TZOFFSETTO:-0500
TZNAME:EST
DTSTART:20251102T060000
END:STANDARD
BEGIN:DAYLIGHT
TZOFFSETFROM:-0500
TZOFFSETTO:-0400
TZNAME:EDT
DTSTART:20260308T070000
END:DAYLIGHT
BEGIN:STANDARD
TZOFFSETFROM:-0400
TZOFFSETTO:-0500
TZNAME:EST
DTSTART:20261101T060000
END:STANDARD
END:VTIMEZONE
BEGIN:VEVENT
DTSTART;TZID=America/New_York:20250801T180000
DTEND;TZID=America/New_York:20250801T210000
DTSTAMP:20260421T082300
CREATED:20250730T150639Z
LAST-MODIFIED:20250730T150639Z
UID:5174-1754071200-1754082000@kramersgreenhouse.com
SUMMARY:Bluegrass Jam
DESCRIPTION:
URL:https://kramersgreenhouse.com/event/bluegrass-jam/
ATTACH;FMTTYPE=image/png:https://kramersgreenhouse.com/wp-content/uploads/2025/07/Blue-Grass.png
END:VEVENT
BEGIN:VEVENT
DTSTART;TZID=America/New_York:20250810T000000
DTEND;TZID=America/New_York:20250810T170000
DTSTAMP:20260421T082300
CREATED:20250715T010638Z
LAST-MODIFIED:20250715T010638Z
UID:5165-1754784000-1754845200@kramersgreenhouse.com
SUMMARY:Styx Pre-Show Tailgate
DESCRIPTION:Stop in for Styx trivia\, free snow cones and cold\, reasonably priced beer including cans to go!
URL:https://kramersgreenhouse.com/event/styx-pre-show-tailgate/
ATTACH;FMTTYPE=image/png:https://kramersgreenhouse.com/wp-content/uploads/2025/07/Styx.png
END:VEVENT
BEGIN:VEVENT
DTSTART;TZID=America/New_York:20250811T180000
DTEND;TZID=America/New_York:20250811T200000
DTSTAMP:20260421T082300
CREATED:20250804T200814Z
LAST-MODIFIED:20250804T200814Z
UID:5179-1754935200-1754942400@kramersgreenhouse.com
SUMMARY:Radiant & Glow Facials with Sharon Curtis
DESCRIPTION:Includes a glass of wine!
URL:https://kramersgreenhouse.com/event/radiant-glow-facials-with-sharon-curtis/
ATTACH;FMTTYPE=image/png:https://kramersgreenhouse.com/wp-content/uploads/2025/08/Screenshot-2025-08-04-160654.png
END:VEVENT
BEGIN:VEVENT
DTSTART;TZID=America/New_York:20250815T180000
DTEND;TZID=America/New_York:20250815T210000
DTSTAMP:20260421T082300
CREATED:20250811T235258Z
LAST-MODIFIED:20250811T235258Z
UID:5185-1755280800-1755291600@kramersgreenhouse.com
SUMMARY:Free Live Music--Bluegrass Jam
DESCRIPTION:
URL:https://kramersgreenhouse.com/event/free-live-music-bluegrass-jam/
ATTACH;FMTTYPE=image/png:https://kramersgreenhouse.com/wp-content/uploads/2025/07/Blue-Grass.png
END:VEVENT
BEGIN:VEVENT
DTSTART;TZID=America/New_York:20250816T180000
DTEND;TZID=America/New_York:20250816T180000
DTSTAMP:20260421T082300
CREATED:20250715T011027Z
LAST-MODIFIED:20250715T011027Z
UID:5168-1755367200-1755367200@kramersgreenhouse.com
SUMMARY:Free Live Music with Heather Eileen
DESCRIPTION:
URL:https://kramersgreenhouse.com/event/free-live-music-with-heather-eileen/
ATTACH;FMTTYPE=image/png:https://kramersgreenhouse.com/wp-content/uploads/2025/07/Heather-Eileen.png
END:VEVENT
BEGIN:VEVENT
DTSTART;TZID=America/New_York:20250829T180000
DTEND;TZID=America/New_York:20250829T210000
DTSTAMP:20260421T082300
CREATED:20250811T235705Z
LAST-MODIFIED:20250811T235705Z
UID:5187-1756490400-1756501200@kramersgreenhouse.com
SUMMARY:Free Live Music-Bluegrass Jam
DESCRIPTION:
URL:https://kramersgreenhouse.com/event/free-live-music-bluegrass-jam-2/
ATTACH;FMTTYPE=image/png:https://kramersgreenhouse.com/wp-content/uploads/2025/07/Blue-Grass.png
END:VEVENT
END:VCALENDAR