BEGIN:VCALENDAR
VERSION:2.0
PRODID:-//Kramer&#039;s Greenhouse - ECPv6.15.20//NONSGML v1.0//EN
CALSCALE:GREGORIAN
METHOD:PUBLISH
X-ORIGINAL-URL:https://kramersgreenhouse.com
X-WR-CALDESC:Events for Kramer&#039;s Greenhouse
REFRESH-INTERVAL;VALUE=DURATION:PT1H
X-Robots-Tag:noindex
X-PUBLISHED-TTL:PT1H
BEGIN:VTIMEZONE
TZID:America/New_York
BEGIN:DAYLIGHT
TZOFFSETFROM:-0500
TZOFFSETTO:-0400
TZNAME:EDT
DTSTART:20240310T070000
END:DAYLIGHT
BEGIN:STANDARD
TZOFFSETFROM:-0400
TZOFFSETTO:-0500
TZNAME:EST
DTSTART:20241103T060000
END:STANDARD
BEGIN:DAYLIGHT
TZOFFSETFROM:-0500
TZOFFSETTO:-0400
TZNAME:EDT
DTSTART:20250309T070000
END:DAYLIGHT
BEGIN:STANDARD
TZOFFSETFROM:-0400
TZOFFSETTO:-0500
TZNAME:EST
DTSTART:20251102T060000
END:STANDARD
BEGIN:DAYLIGHT
TZOFFSETFROM:-0500
TZOFFSETTO:-0400
TZNAME:EDT
DTSTART:20260308T070000
END:DAYLIGHT
BEGIN:STANDARD
TZOFFSETFROM:-0400
TZOFFSETTO:-0500
TZNAME:EST
DTSTART:20261101T060000
END:STANDARD
END:VTIMEZONE
BEGIN:VEVENT
DTSTART;TZID=America/New_York:20250504T130000
DTEND;TZID=America/New_York:20250504T150000
DTSTAMP:20260421T131702
CREATED:20250408T193820Z
LAST-MODIFIED:20250408T193820Z
UID:5112-1746363600-1746370800@kramersgreenhouse.com
SUMMARY:Paint A Pot & Sip Some Wine
DESCRIPTION:$35 includes a drink (beer or wine)\, supplies\, instruction & a fun afternoon.  Afterwards shop for your blooms at 15% discount \nCall/Text Steph to register 412.310.1001
URL:https://kramersgreenhouse.com/event/paint-a-pot-sip-some-wine/
ATTACH;FMTTYPE=image/png:https://kramersgreenhouse.com/wp-content/uploads/2025/04/Mothers-Day-Paint-2025.png
END:VEVENT
BEGIN:VEVENT
DTSTART;TZID=America/New_York:20250511T100000
DTEND;TZID=America/New_York:20250511T180000
DTSTAMP:20260421T131702
CREATED:20250407T164658Z
LAST-MODIFIED:20250407T164658Z
UID:5105-1746957600-1746986400@kramersgreenhouse.com
SUMMARY:Mother's Day Celebration!
DESCRIPTION:Live music with Lounna\, free cookies and hard cider mimosas!
URL:https://kramersgreenhouse.com/event/mothers-day-celebration/
END:VEVENT
BEGIN:VEVENT
DTSTART;TZID=America/New_York:20250511T130000
DTEND;TZID=America/New_York:20250511T160000
DTSTAMP:20260421T131702
CREATED:20250407T164509Z
LAST-MODIFIED:20250407T164509Z
UID:5103-1746968400-1746979200@kramersgreenhouse.com
SUMMARY:Live Music for Mother's Day with Lounna
DESCRIPTION:
URL:https://kramersgreenhouse.com/event/live-music-for-mothers-day-with-lounna/
END:VEVENT
BEGIN:VEVENT
DTSTART;TZID=America/New_York:20250522T160000
DTEND;TZID=America/New_York:20250522T190000
DTSTAMP:20260421T131702
CREATED:20250421T164550Z
LAST-MODIFIED:20250421T164550Z
UID:5117-1747929600-1747940400@kramersgreenhouse.com
SUMMARY:Repair Bar
DESCRIPTION:Join us for a free service where volunteers will help identify if broken items are fixable!  No drop-offs\, no disposable and if part are needed\, it is the responsibility of the item owner. \nThursday 5/22 4p-7p
URL:https://kramersgreenhouse.com/event/repair-bar/
ATTACH;FMTTYPE=image/png:https://kramersgreenhouse.com/wp-content/uploads/2025/04/Repair-Bar-May.png
END:VEVENT
BEGIN:VEVENT
DTSTART;TZID=America/New_York:20250524T180000
DTEND;TZID=America/New_York:20250524T210000
DTSTAMP:20260421T131702
CREATED:20250303T201005Z
LAST-MODIFIED:20250303T201005Z
UID:5086-1748109600-1748120400@kramersgreenhouse.com
SUMMARY:Live-Music Brad Bendis
DESCRIPTION:
URL:https://kramersgreenhouse.com/event/live-music-brad-bendis/
END:VEVENT
END:VCALENDAR