BEGIN:VCALENDAR
VERSION:2.0
PRODID:-//Kramer&#039;s Greenhouse - ECPv6.15.20//NONSGML v1.0//EN
CALSCALE:GREGORIAN
METHOD:PUBLISH
X-WR-CALNAME:Kramer&#039;s Greenhouse
X-ORIGINAL-URL:https://kramersgreenhouse.com
X-WR-CALDESC:Events for Kramer&#039;s Greenhouse
REFRESH-INTERVAL;VALUE=DURATION:PT1H
X-Robots-Tag:noindex
X-PUBLISHED-TTL:PT1H
BEGIN:VTIMEZONE
TZID:America/New_York
BEGIN:DAYLIGHT
TZOFFSETFROM:-0500
TZOFFSETTO:-0400
TZNAME:EDT
DTSTART:20230312T070000
END:DAYLIGHT
BEGIN:STANDARD
TZOFFSETFROM:-0400
TZOFFSETTO:-0500
TZNAME:EST
DTSTART:20231105T060000
END:STANDARD
BEGIN:DAYLIGHT
TZOFFSETFROM:-0500
TZOFFSETTO:-0400
TZNAME:EDT
DTSTART:20240310T070000
END:DAYLIGHT
BEGIN:STANDARD
TZOFFSETFROM:-0400
TZOFFSETTO:-0500
TZNAME:EST
DTSTART:20241103T060000
END:STANDARD
BEGIN:DAYLIGHT
TZOFFSETFROM:-0500
TZOFFSETTO:-0400
TZNAME:EDT
DTSTART:20250309T070000
END:DAYLIGHT
BEGIN:STANDARD
TZOFFSETFROM:-0400
TZOFFSETTO:-0500
TZNAME:EST
DTSTART:20251102T060000
END:STANDARD
END:VTIMEZONE
BEGIN:VEVENT
DTSTART;TZID=America/New_York:20241201T100000
DTEND;TZID=America/New_York:20241201T170000
DTSTAMP:20260421T204911
CREATED:20241126T182941Z
LAST-MODIFIED:20241126T182941Z
UID:4955-1733047200-1733072400@kramersgreenhouse.com
SUMMARY:12 Days of Giving-Greater Pittsburgh Food Bank
DESCRIPTION:
URL:https://kramersgreenhouse.com/event/12-days-of-giving-greater-pittsburgh-food-bank/
ATTACH;FMTTYPE=application/pdf:https://kramersgreenhouse.com/wp-content/uploads/2024/11/Pop-up-Flyer-2024-1.pdf
END:VEVENT
BEGIN:VEVENT
DTSTART;TZID=America/New_York:20241206T100000
DTEND;TZID=America/New_York:20241206T210000
DTSTAMP:20260421T204911
CREATED:20241126T183104Z
LAST-MODIFIED:20241126T184358Z
UID:4958-1733479200-1733518800@kramersgreenhouse.com
SUMMARY:12 Days of Giving-CASA of Washington County
DESCRIPTION:
URL:https://kramersgreenhouse.com/event/12-days-of-giving-casa-of-washington-county/
ATTACH;FMTTYPE=application/pdf:https://kramersgreenhouse.com/wp-content/uploads/2024/11/Pop-up-Flyer-2024-11.pdf
END:VEVENT
BEGIN:VEVENT
DTSTART;TZID=America/New_York:20241207T100000
DTEND;TZID=America/New_York:20241207T210000
DTSTAMP:20260421T204911
CREATED:20241126T183306Z
LAST-MODIFIED:20241126T183306Z
UID:4960-1733565600-1733605200@kramersgreenhouse.com
SUMMARY:12 Days of Giving-Fort Cherry Marching Band
DESCRIPTION:
URL:https://kramersgreenhouse.com/event/12-days-of-giving-fort-cherry-marching-band/
ATTACH;FMTTYPE=application/pdf:https://kramersgreenhouse.com/wp-content/uploads/2024/11/Pop-up-Flyer-2024-2.pdf
END:VEVENT
BEGIN:VEVENT
DTSTART;TZID=America/New_York:20241208T100000
DTEND;TZID=America/New_York:20241208T170000
DTSTAMP:20260421T204911
CREATED:20241126T183402Z
LAST-MODIFIED:20241126T183402Z
UID:4963-1733652000-1733677200@kramersgreenhouse.com
SUMMARY:12 Days of Giving-Cub Scout Pack 1396
DESCRIPTION:
URL:https://kramersgreenhouse.com/event/12-days-of-giving-cub-scout-pack-1396/
ATTACH;FMTTYPE=application/pdf:https://kramersgreenhouse.com/wp-content/uploads/2024/11/Pop-up-Flyer-2024-3.pdf
END:VEVENT
BEGIN:VEVENT
DTSTART;TZID=America/New_York:20241213T100000
DTEND;TZID=America/New_York:20241213T210000
DTSTAMP:20260421T204911
CREATED:20241126T183514Z
LAST-MODIFIED:20241126T183514Z
UID:4966-1734084000-1734123600@kramersgreenhouse.com
SUMMARY:12 Days of Giving-Washington County Humane Society
DESCRIPTION:
URL:https://kramersgreenhouse.com/event/12-days-of-giving-washington-county-humane-society/
ATTACH;FMTTYPE=application/pdf:https://kramersgreenhouse.com/wp-content/uploads/2024/11/Pop-up-Flyer-2024-4.pdf
END:VEVENT
BEGIN:VEVENT
DTSTART;TZID=America/New_York:20241214T100000
DTEND;TZID=America/New_York:20241214T210000
DTSTAMP:20260421T204911
CREATED:20241126T183602Z
LAST-MODIFIED:20241126T183734Z
UID:4969-1734170400-1734210000@kramersgreenhouse.com
SUMMARY:12 Days of Giving-Bavington Community Association
DESCRIPTION:
URL:https://kramersgreenhouse.com/event/12-days-of-giving-bavington-community-association/
ATTACH;FMTTYPE=application/pdf:https://kramersgreenhouse.com/wp-content/uploads/2024/11/Pop-up-Flyer-2024-5.pdf
END:VEVENT
BEGIN:VEVENT
DTSTART;TZID=America/New_York:20241215T100000
DTEND;TZID=America/New_York:20241215T170000
DTSTAMP:20260421T204911
CREATED:20241126T183657Z
LAST-MODIFIED:20241126T183657Z
UID:4972-1734256800-1734282000@kramersgreenhouse.com
SUMMARY:12 Days of Giving-West Allegheny Library
DESCRIPTION:
URL:https://kramersgreenhouse.com/event/12-days-of-giving-west-allegheny-library/
ATTACH;FMTTYPE=application/pdf:https://kramersgreenhouse.com/wp-content/uploads/2024/11/Pop-up-Flyer-2024-6.pdf
END:VEVENT
BEGIN:VEVENT
DTSTART;TZID=America/New_York:20241220T100000
DTEND;TZID=America/New_York:20241220T210000
DTSTAMP:20260421T204911
CREATED:20241126T183825Z
LAST-MODIFIED:20241126T183825Z
UID:4975-1734688800-1734728400@kramersgreenhouse.com
SUMMARY:12 Days of Christmas-McDonald Library
DESCRIPTION:
URL:https://kramersgreenhouse.com/event/12-days-of-christmas-mcdonald-library/
ATTACH;FMTTYPE=application/pdf:https://kramersgreenhouse.com/wp-content/uploads/2024/11/Pop-up-Flyer-2024-7.pdf
END:VEVENT
BEGIN:VEVENT
DTSTART;TZID=America/New_York:20241221T100000
DTEND;TZID=America/New_York:20241221T210000
DTSTAMP:20260421T204911
CREATED:20241126T183928Z
LAST-MODIFIED:20241126T183928Z
UID:4978-1734775200-1734814800@kramersgreenhouse.com
SUMMARY:12 Days of Giving-Burgettstown Library
DESCRIPTION:
URL:https://kramersgreenhouse.com/event/12-days-of-giving-burgettstown-library/
ATTACH;FMTTYPE=application/pdf:https://kramersgreenhouse.com/wp-content/uploads/2024/11/Pop-up-Flyer-2024-8.pdf
END:VEVENT
BEGIN:VEVENT
DTSTART;TZID=America/New_York:20241222T100000
DTEND;TZID=America/New_York:20241222T170000
DTSTAMP:20260421T204911
CREATED:20241126T184022Z
LAST-MODIFIED:20241126T184022Z
UID:4981-1734861600-1734886800@kramersgreenhouse.com
SUMMARY:12 Days of Christmas-Boy Scout Troop 1396
DESCRIPTION:
URL:https://kramersgreenhouse.com/event/12-days-of-christmas-boy-scout-troop-1396/
ATTACH;FMTTYPE=application/pdf:https://kramersgreenhouse.com/wp-content/uploads/2024/11/Pop-up-Flyer-2024-9.pdf
END:VEVENT
BEGIN:VEVENT
DTSTART;TZID=America/New_York:20241222T120000
DTEND;TZID=America/New_York:20241222T150000
DTSTAMP:20260421T204911
CREATED:20241202T214408Z
LAST-MODIFIED:20241202T214408Z
UID:4989-1734868800-1734879600@kramersgreenhouse.com
SUMMARY:Mini Highland Cow & Santa Pictures
DESCRIPTION:Join us for pictures with a mini highland cow & Santa!
URL:https://kramersgreenhouse.com/event/mini-highland-cow-santa-pictures/
ATTACH;FMTTYPE=application/pdf:https://kramersgreenhouse.com/wp-content/uploads/2024/12/Holiday-Pictures-with-Mini-Cows-and-Santa-2024.pdf
END:VEVENT
BEGIN:VEVENT
DTSTART;TZID=America/New_York:20241224T100000
DTEND;TZID=America/New_York:20241224T180000
DTSTAMP:20260421T204911
CREATED:20241126T182043Z
LAST-MODIFIED:20241126T184256Z
UID:4949-1735034400-1735063200@kramersgreenhouse.com
SUMMARY:Christmas Eve Toast
DESCRIPTION:Join us for free food to celebrate the holiday season!
URL:https://kramersgreenhouse.com/event/christmas-eve-toast/
ATTACH;FMTTYPE=application/pdf:https://kramersgreenhouse.com/wp-content/uploads/2024/11/Christmas-Eve-Flyer-2024-1.pdf
END:VEVENT
BEGIN:VEVENT
DTSTART;TZID=America/New_York:20241224T100000
DTEND;TZID=America/New_York:20241224T180000
DTSTAMP:20260421T204911
CREATED:20241126T184105Z
LAST-MODIFIED:20241126T184105Z
UID:4984-1735034400-1735063200@kramersgreenhouse.com
SUMMARY:12 Days of Giving-Burgettstown Grange
DESCRIPTION:
URL:https://kramersgreenhouse.com/event/12-days-of-giving-burgettstown-grange/
ATTACH;FMTTYPE=application/pdf:https://kramersgreenhouse.com/wp-content/uploads/2024/11/Pop-up-Flyer-2024-10.pdf
END:VEVENT
END:VCALENDAR