BEGIN:VCALENDAR
VERSION:2.0
PRODID:-//Kramer&#039;s Greenhouse - ECPv6.15.20//NONSGML v1.0//EN
CALSCALE:GREGORIAN
METHOD:PUBLISH
X-WR-CALNAME:Kramer&#039;s Greenhouse
X-ORIGINAL-URL:https://kramersgreenhouse.com
X-WR-CALDESC:Events for Kramer&#039;s Greenhouse
REFRESH-INTERVAL;VALUE=DURATION:PT1H
X-Robots-Tag:noindex
X-PUBLISHED-TTL:PT1H
BEGIN:VTIMEZONE
TZID:America/New_York
BEGIN:DAYLIGHT
TZOFFSETFROM:-0500
TZOFFSETTO:-0400
TZNAME:EDT
DTSTART:20250309T070000
END:DAYLIGHT
BEGIN:STANDARD
TZOFFSETFROM:-0400
TZOFFSETTO:-0500
TZNAME:EST
DTSTART:20251102T060000
END:STANDARD
BEGIN:DAYLIGHT
TZOFFSETFROM:-0500
TZOFFSETTO:-0400
TZNAME:EDT
DTSTART:20260308T070000
END:DAYLIGHT
BEGIN:STANDARD
TZOFFSETFROM:-0400
TZOFFSETTO:-0500
TZNAME:EST
DTSTART:20261101T060000
END:STANDARD
BEGIN:DAYLIGHT
TZOFFSETFROM:-0500
TZOFFSETTO:-0400
TZNAME:EDT
DTSTART:20270314T070000
END:DAYLIGHT
BEGIN:STANDARD
TZOFFSETFROM:-0400
TZOFFSETTO:-0500
TZNAME:EST
DTSTART:20271107T060000
END:STANDARD
END:VTIMEZONE
BEGIN:VEVENT
DTSTART;TZID=America/New_York:20260314T130000
DTEND;TZID=America/New_York:20260314T150000
DTSTAMP:20260424T164954
CREATED:20260306T165023Z
LAST-MODIFIED:20260306T165023Z
UID:5419-1773493200-1773500400@kramersgreenhouse.com
SUMMARY:Lucky Cow Cuddles
DESCRIPTION:Come spend some time cuddling with your favorite mini Highland Cows! 15 minutes of snuggles and selfies! \n1:00 pm to 3:00 pm \n$55 per session. Price includes 15 minutes of snuggles and selfies and a drink ticket. \nCall Jodi at 412-770-0517 to schedule
URL:https://kramersgreenhouse.com/event/lucky-cow-cuddles/
CATEGORIES:Highland Cows
ATTACH;FMTTYPE=image/png:https://kramersgreenhouse.com/wp-content/uploads/2026/03/Mini-Highland.png
END:VEVENT
END:VCALENDAR