BEGIN:VCALENDAR
VERSION:2.0
PRODID:-//Kramer&#039;s Greenhouse - ECPv6.15.20//NONSGML v1.0//EN
CALSCALE:GREGORIAN
METHOD:PUBLISH
X-WR-CALNAME:Kramer&#039;s Greenhouse
X-ORIGINAL-URL:https://kramersgreenhouse.com
X-WR-CALDESC:Events for Kramer&#039;s Greenhouse
REFRESH-INTERVAL;VALUE=DURATION:PT1H
X-Robots-Tag:noindex
X-PUBLISHED-TTL:PT1H
BEGIN:VTIMEZONE
TZID:America/New_York
BEGIN:DAYLIGHT
TZOFFSETFROM:-0500
TZOFFSETTO:-0400
TZNAME:EDT
DTSTART:20240310T070000
END:DAYLIGHT
BEGIN:STANDARD
TZOFFSETFROM:-0400
TZOFFSETTO:-0500
TZNAME:EST
DTSTART:20241103T060000
END:STANDARD
BEGIN:DAYLIGHT
TZOFFSETFROM:-0500
TZOFFSETTO:-0400
TZNAME:EDT
DTSTART:20250309T070000
END:DAYLIGHT
BEGIN:STANDARD
TZOFFSETFROM:-0400
TZOFFSETTO:-0500
TZNAME:EST
DTSTART:20251102T060000
END:STANDARD
BEGIN:DAYLIGHT
TZOFFSETFROM:-0500
TZOFFSETTO:-0400
TZNAME:EDT
DTSTART:20260308T070000
END:DAYLIGHT
BEGIN:STANDARD
TZOFFSETFROM:-0400
TZOFFSETTO:-0500
TZNAME:EST
DTSTART:20261101T060000
END:STANDARD
END:VTIMEZONE
BEGIN:VEVENT
DTSTART;TZID=America/New_York:20250718T180000
DTEND;TZID=America/New_York:20250718T200000
DTSTAMP:20260421T113618
CREATED:20250711T200918Z
LAST-MODIFIED:20250711T200918Z
UID:5159-1752861600-1752868800@kramersgreenhouse.com
SUMMARY:Sunflower Field Paint & Sip
DESCRIPTION:Hi everyone! Come out to this beautiful and awesome winery to paint sunflower fields! All levels are welcome! Seating is for 20 people so please prepay to save your seats! I need payments by July 15th! \nCost is $40 each! If you want to order drinks \, you can pay for whatever you want 😊\nWhen you pay\, please send me a msg to let me know and I’ll mark you down as paid !\nMsg me or call if you have any questions! Hope to see you there!\n$40 \nVenmo-740-512-3262\nZelle- 740-512-3262\nPayPal- tinahummer4@gmail.com (friends and family)\nHope to see you there!
URL:https://kramersgreenhouse.com/event/sunflower-field-paint-sip/
ATTACH;FMTTYPE=image/png:https://kramersgreenhouse.com/wp-content/uploads/2025/07/sunflower.png
END:VEVENT
END:VCALENDAR