BEGIN:VCALENDAR
VERSION:2.0
PRODID:-//Kramer&#039;s Greenhouse - ECPv6.15.20//NONSGML v1.0//EN
CALSCALE:GREGORIAN
METHOD:PUBLISH
X-WR-CALNAME:Kramer&#039;s Greenhouse
X-ORIGINAL-URL:https://kramersgreenhouse.com
X-WR-CALDESC:Events for Kramer&#039;s Greenhouse
REFRESH-INTERVAL;VALUE=DURATION:PT1H
X-Robots-Tag:noindex
X-PUBLISHED-TTL:PT1H
BEGIN:VTIMEZONE
TZID:America/New_York
BEGIN:DAYLIGHT
TZOFFSETFROM:-0500
TZOFFSETTO:-0400
TZNAME:EDT
DTSTART:20240310T070000
END:DAYLIGHT
BEGIN:STANDARD
TZOFFSETFROM:-0400
TZOFFSETTO:-0500
TZNAME:EST
DTSTART:20241103T060000
END:STANDARD
BEGIN:DAYLIGHT
TZOFFSETFROM:-0500
TZOFFSETTO:-0400
TZNAME:EDT
DTSTART:20250309T070000
END:DAYLIGHT
BEGIN:STANDARD
TZOFFSETFROM:-0400
TZOFFSETTO:-0500
TZNAME:EST
DTSTART:20251102T060000
END:STANDARD
BEGIN:DAYLIGHT
TZOFFSETFROM:-0500
TZOFFSETTO:-0400
TZNAME:EDT
DTSTART:20260308T070000
END:DAYLIGHT
BEGIN:STANDARD
TZOFFSETFROM:-0400
TZOFFSETTO:-0500
TZNAME:EST
DTSTART:20261101T060000
END:STANDARD
END:VTIMEZONE
BEGIN:VEVENT
DTSTART;TZID=America/New_York:20250223T130000
DTEND;TZID=America/New_York:20250223T150000
DTSTAMP:20260421T191759
CREATED:20250106T161257Z
LAST-MODIFIED:20250106T161257Z
UID:5056-1740315600-1740322800@kramersgreenhouse.com
SUMMARY:Situational Awareness Training-Burgettstown Grange
DESCRIPTION:
URL:https://kramersgreenhouse.com/event/situational-awareness-training-burgettstown-grange/
LOCATION:Burgettstown Grange\, 643 Creek Rd\, Bulger\, PA\, 15019\, United States
ATTACH;FMTTYPE=application/pdf:https://kramersgreenhouse.com/wp-content/uploads/2025/01/Situational-Awareness-Final-Flyer.pdf
ORGANIZER;CN="Bavington Community Association":MAILTO:drkramer65@gmail.com
END:VEVENT
END:VCALENDAR