BEGIN:VCALENDAR
VERSION:2.0
PRODID:-//Kramer&#039;s Greenhouse - ECPv6.15.20//NONSGML v1.0//EN
CALSCALE:GREGORIAN
METHOD:PUBLISH
X-WR-CALNAME:Kramer&#039;s Greenhouse
X-ORIGINAL-URL:https://kramersgreenhouse.com
X-WR-CALDESC:Events for Kramer&#039;s Greenhouse
REFRESH-INTERVAL;VALUE=DURATION:PT1H
X-Robots-Tag:noindex
X-PUBLISHED-TTL:PT1H
BEGIN:VTIMEZONE
TZID:America/New_York
BEGIN:DAYLIGHT
TZOFFSETFROM:-0500
TZOFFSETTO:-0400
TZNAME:EDT
DTSTART:20240310T070000
END:DAYLIGHT
BEGIN:STANDARD
TZOFFSETFROM:-0400
TZOFFSETTO:-0500
TZNAME:EST
DTSTART:20241103T060000
END:STANDARD
BEGIN:DAYLIGHT
TZOFFSETFROM:-0500
TZOFFSETTO:-0400
TZNAME:EDT
DTSTART:20250309T070000
END:DAYLIGHT
BEGIN:STANDARD
TZOFFSETFROM:-0400
TZOFFSETTO:-0500
TZNAME:EST
DTSTART:20251102T060000
END:STANDARD
BEGIN:DAYLIGHT
TZOFFSETFROM:-0500
TZOFFSETTO:-0400
TZNAME:EDT
DTSTART:20260308T070000
END:DAYLIGHT
BEGIN:STANDARD
TZOFFSETFROM:-0400
TZOFFSETTO:-0500
TZNAME:EST
DTSTART:20261101T060000
END:STANDARD
END:VTIMEZONE
BEGIN:VEVENT
DTSTART;TZID=America/New_York:20250208T120000
DTEND;TZID=America/New_York:20250208T150000
DTSTAMP:20260421T191801
CREATED:20250106T155834Z
LAST-MODIFIED:20250106T155834Z
UID:5053-1739016000-1739026800@kramersgreenhouse.com
SUMMARY:Valentine Photos with Mini-Cows
DESCRIPTION:Get in the Valentine Moood with Moola! \n$35 for digital pictures \nFirst come\, first served!
URL:https://kramersgreenhouse.com/event/valentine-photos-with-mini-cows/
ATTACH;FMTTYPE=application/pdf:https://kramersgreenhouse.com/wp-content/uploads/2025/01/Get-in-the-Valentine-MOOOOD-2025.pdf
END:VEVENT
END:VCALENDAR